Workbook

Sheet 交付申請時チェック表
A1: 交付申請時チェック表
A2: チェック項目 | D2: 該当する方に☑
D3: 対象 | E3: 対象外
A4: １．助成対象者となるかどうかのチェック
B5: ①全ての申請者 | C5: 令和５年４月１日から令和８年９月30日までの間において常滑市民文化会館施設（あなたのギャラリー以外）を使用した実績がありますか。
B6: ②団体 | C6: ２人以上で組織された団体ですか。
C7: 普段の活動の拠点は常滑市内にありますか。
C8: 営利法人・宗教団体・政治団体のいずれにも該当しませんか。
C9: 国・地方公共団体、公立幼保こども園・学校、その他の公共的団体のいずれにも該当しませんか。
B10: ③個人 | C10: 住所は常滑市内ですか。
A11: ２．代替使用する施設が助成金の対象となるかどうかのチェック
B12: 常滑市民文化会館の代わりとして使用する施設ですか。
B13: 常滑市、半田市、東海市、大府市、知多市、阿久比町、東浦町、南知多町、美浜町又は武豊町の区域内に所在する施設ですか。
B14: 常滑市民文化会館、常滑市中央公民館、常滑市青海公民館、常滑市南陵公民館のいずれにも該当しませんか。
A15: ３．実施する事業が対象になるかどうかのチェック
B16: 申請年度内（３月31日まで）に完了する事業ですか。
B17: 営利、宣伝等が目的の事業ではありませんか。
B18: 次のいずれかに該当する活動ですか。 ア 音楽、美術、写真、演劇、舞踊その他の芸術の振興のため、これらの 公演、展示、発表、練習等を行う活動 イ 伝統芸能その他の芸能の継承又は振興のため、これらの公演、展示、 発表、練習等を行う活動 ウ 茶道、華道、書道、食文化その他の生活に係る文化又は生涯学習の 振興のため、これらの展示、発表、練習等を行う活動 エ 常滑市の社会教育、生涯学習又は文化芸術の振興及び発展に資する 講演会、研修会、集会等
B19: 令和５年４月１日から令和８年９月30日までの間において常滑市民文化会館施設を使用して行った活動と同じ趣旨の活動ですか。
B20: 入場料等は徴収しませんか。入場料等を徴収する場合は、1,000円以下（市内施設を使用する場合は3,000円以下）ですか。
B21: 宗教活動・政治活動・慈善事業のいずれにも該当しませんか。
B22: 【公演、展示、発表、練習等の場合】 出演者等※に常滑市在住の人がいますか。 ※出演者等とは、出演者、出品者、発表者及び参加者のことをいい、入場 者や観覧者は含みません。
B23: 【講演会、研修会、集会等の場合】 主な対象者は常滑市民ですか。
B24: 常滑市社会教育関係団体活動事業補助金・常滑市認定地域クラブ活動費補助金以外の補助金、助成金等を受けていませんか。又は受ける予定ではありませんか。
B25: 今年度の申請事業数は３事業以内（文化協会は８事業以内）ですか。
B26: 今年度の申請日数（施設使用日数）は12日間以内（文化協会は16日以内）ですか。
A27: ４．対象経費のチェック
B28: 計上した経費は次のいずれかに該当しますか。 ア 代替使用する施設の施設使用料、付属設備使用料 イ 音響操作委託料、照明操作委託料、会場設営費
B29: 交付決定日から交付決定日の属する年度の３月31日までに支払いを完了できる経費ですか。 ※４～５月（令和８年度は10～11月）に事業を実施する場合は例外があり ます。ホームページを確認してください。
A30: ５．提出書類等のチェック
B31: 事業の実施日・対象経費を支出する日まで１か月以上ありますか。 ※４～５月（令和８年度は10～11月）に事業を実施する場合は例外があり ます。ホームページを確認してください。
B32: 交付申請書（様式第１号その１）はありますか。
B33: 交付申請額計算書兼収支予算書（様式第１号その２）はありますか。
B34: 【団体の場合】団体の概要（様式第２号）はありますか。
B35: 今回申請する事業の内容が分かる書類（計画書、プログラム案、チラシ案など）はありますか。
B36: 【施設使用料・付属設備使用料の助成を受ける場合】 使用する施設及び付属設備の料金表はありますか。
B37: 【音響・照明操作委託料、会場設営費の助成を受ける場合】 見積書はありますか。
A39: 注意事項
A40: ・ | B40: 提出書類に不備や不足がある場合は受理できません。交付決定は、不備不足のない申請を受理した日から14日程度かかります。
A41: ・ | B41: 原則として、交付決定日以後の支払いしか助成金の対象となりません。 ※４～５月（令和８年度は10～11月）に事業を実施する場合は例外あり
...

Sheet 交付申請書(様式第1号その1)
A1: 様式第１号（第９条関係）
A2: その１
H3: 年 月 日
A4: 常滑市長 様
A5: 常滑市民文化会館代替施設使用料等助成金交付申請書
A6: 次のとおり常滑市民文化会館代替施設使用料等助成金の交付を受けたいので、常滑市民文化会館代替施設使用料等助成金交付要綱第９条第１項の規定により申請します。
A7: １ 申請者
A8: （団体の場合）
B9: 団体名
B10: 所在地 | D10: 〒 －
B12: 代表者氏名
B13: 担当者氏名
B14: 担当者連絡先 | D14: 電 話 番 号
D15: メールアドレス
D17: １ | E17: 市内の小学生、中学生で組織する団体等（100％減免団体）
B18: 常滑市民文化会館 | D18: ２ | E18: 文化協会・体育協会の本部又は支部（50％減免団体）
B19: 減免区分 | D19: ３ | E19: 社会教育関係団体・福祉関係団体（50％減免団体）
B20: （該当するものに〇） | D20: ４ | E20: 公民館利用登録団体（展示室の50％減免を受けていた団体）
D21: ５ | E21: 文化協会の団体会員（展示室の50％減免を受けていた団体）
D22: ６ | E22: その他の団体
A25: （個人の場合）
B26: 氏名
B27: 住所 | D27: 〒 －
B29: 電話番号
B30: メールアドレス
A32: ２ 申請内容
B33: 助成金の名称 | D33: 常滑市民文化会館代替施設使用料等助成金
D34: ①公演 ②展示 ③発表 ④練習
B35: 事業の種類 | D35: ※出演者、参加者等のうち常滑市民の人数 | I35: 人
B36: （該当するものに〇） | D36: ⑤講演会 ⑥研修会 ⑦集会
D37: ⑧その他（ ）
B38: 事業名
B39: 事業内容
D40: 施 設 名
B41: 使用施設 | D41: 所 在 地
D42: 電 話 番 号
B43: 実施日時 | D43: （本番 ・ リハーサル ・ 会場準備 ・ 練習）
A44: （施設の使用日 及び使用時間） | D44: 年 月 日 | G44: 時 分～ 時 分
D45: （本番 ・ リハーサル ・ 会場準備 ・ 練習）
A46: ※欄が足りない場合 は、実施日時が分か るものを別途添付す ること。 | D46: 年 月 日 | G46: 時 分～ 時 分
...

Sheet 収支予算書(様式第1号その2)
B1: ↓別表の常滑市民文化会館の減免区分から当てはまるものを選んでください。
H2: =IF(B2=H12,1,IF(OR(B2=H13,B2=H14,B2=H15,B2=H16),0.75,0.5)) -> 0.5
H3: =IF(B5="はい",10000,0) -> 0
B4: ↓セントレア地内の施設（セントレアホール等の空港島内の施設）を利用しますか。
A7: その２ | H7: その２（別表）
A8: 交付申請額計算書兼収支予算書
H9: 助成率及びＢの上限額
A10: 収入 | F10: （単位：円）
A11: 収入の項目 | D11: 収入額 | F11: 摘要（積算式） | H11: 常滑市民文化会館の減免区分 | I11: 助成率 | J11: Ｂの上限額
A12: 入場料その他これに類するもの ① | H12: １ 市内の小学生、中学生で組織する団体等（100％減免団体） | I12: 10分の10 | J12: 300,000円
A13: 参加者・出演者負担金 | H13: ２ 文化協会・体育協会の本部又は支部（50％減免団体） | I13: ４分の３ | J13: 225,000円
A14: 協賛金・寄附金等 | H14: ３ 社会教育関係団体・福祉関係団体（50％減免団体） | I14: ４分の３ | J14: 225,000円
A15: その他（ ） | H15: ４ 公民館利用登録団体（展示室の50％減免を受けていた団体） | I15: ４分の３ | J15: 225,000円
H16: ５ 文化協会の団体会員（展示室の50％減免を受けていた団体） | I16: ４分の３ | J16: 225,000円
H17: ６ その他の団体・個人 | I17: ２分の１ | J17: 150,000円
A18: 支出 | F18: （単位：円）
A19: 支出の項目 | D19: 支出額 | F19: 摘要（積算式）
A20: 助成対象経費 | B20: 施設使用料
B21: 付属設備使用料
B22: 音響操作委託料
B23: 照明操作委託料
B24: 会場設営費
B25: 助成対象経費の合計 ② | D25: =SUM(D20:E24) -> 0
A26: 助成対象外経費
A31: 交付申請額の計算
A32: Ａ | C32: =D25-D12 -> 0 | E32: ・Ａ＝②－①
A33: Ｂ | C33: =ROUNDDOWN(IF(C32>300000,300000*H2,C32*H2),-3) -> 0 | E33: ・Ｂ＝Ａ×助成率（別表参照） ・1,000円未満切り捨て ・上限額を超えた場合は、上限額（別表参照）
A34: 交付申請額 | C34: =C33+H3 -> 0 | E34: ※セントレア地内の施設を使用しない場合は、Ｂの額 ※セントレア地内の施設を使用する場合は、Ｂ＋10,000円
A35: （助成率とＢの上限額の別表は裏面）

Sheet 団体の概要(様式第2号）
A1: 様式第２号（第９条関係）
A3: 団体の概要
A5: 団体 | C5: 名称 | E5: =IF(ISBLANK('交付申請書(様式第1号その1)'!D9),"",'交付申請書(様式第1号その1)'!D9)
C6: 設立年月日 | E6: 年 月 日
C7: 設立目的
C8: 主な活動内容
C9: 日頃の活動拠点
C10: 日頃の活動拠点 の所在地
C11: 構成員の人数 | E11: 人
A12: 代表者 | C12: 氏名 | E12: =IF(ISBLANK('交付申請書(様式第1号その1)'!D12),"",'交付申請書(様式第1号その1)'!D12)
A13: 担当者 | C13: 氏名 | E13: =IF(ISBLANK('交付申請書(様式第1号その1)'!D13),"",'交付申請書(様式第1号その1)'!D13)
C14: 電話番号 | E14: =IF(ISBLANK('交付申請書(様式第1号その1)'!F14),"",'交付申請書(様式第1号その1)'!F14)
C15: メールアドレス | E15: =IF(ISBLANK('交付申請書(様式第1号その1)'!F15),"",'交付申請書(様式第1号その1)'!F15)

Sheet 実績報告書(様式第8号その1)
A1: 様式第８号（第13条関係）
A2: その１
H3: 年 月 日
A4: 常滑市長 様
D5: 助成事業者 | F5: 住所（所在地）
F6: ='交付申請書(様式第1号その1)'!D11&'交付申請書(様式第1号その1)'!D28
F7: 氏名（名称及び代表者氏名）
F8: ='交付申請書(様式第1号その1)'!D9&'交付申請書(様式第1号その1)'!D26
F9: ='交付申請書(様式第1号その1)'!D12 -> 0
A10: 常滑市民文化会館代替施設使用料等助成金実績報告書
B11: 年 月 日付け 常教生第 号 | G11: で交付決定のあった常滑市民文化会館代替
A12: 施設使用料等助成金について、事業が完了しましたので、常滑市民文化会館代替施設使用
A13: 料等助成金交付要綱第13条の規定により報告します。
B14: 助成金の名称 | D14: 常滑市民文化会館代替施設使用料等助成金
D15: ①公演 ②展示 ③発表 ④練習
B16: 事業の種類 | D16: ※出演者、参加者等のうち常滑市民の人数 | I16: 人
B17: （該当するものに〇） | D17: ⑤講演会 ⑥研修会 ⑦集会
D18: ⑧その他（ ）
B19: 事業名 | D19: ='交付申請書(様式第1号その1)'!D38 -> 0
B20: 事業内容 | D20: ='交付申請書(様式第1号その1)'!D39 -> 0
B21: 使用施設 | D21: 施 設 名 | F21: ='交付申請書(様式第1号その1)'!F40 -> 0
B22: 実施日時 | D22: （本番 ・ リハーサル ・ 会場準備 ・ 練習）
A23: （施設の使用日 及び使用時間） | D23: 年 月 日 | G23: 時 分～ 時 分
D24: （本番 ・ リハーサル ・ 会場準備 ・ 練習）
A25: ※欄が足りない場合 は、実施日時が分か るものを別途添付す ること。 | D25: 年 月 日 | G25: 時 分～ 時 分
D26: （本番 ・ リハーサル ・ 会場準備 ・ 練習）
D27: 年 月 日 | G27: 時 分～ 時 分
B28: 既交付決定額 | D28: ='収支決算書(様式第8号その2)'!C35 -> 0
B29: 精算額 | D29: 様式第８号その２のとおり
A31: （提出書類）
B32: (１) 精算額計算書兼収支決算書（様式第８号その２）
B33: (２) 助成対象経費の支出を証する書類（領収書等）の写し
B34: (３) 事業の内容及び実施状況が確認できるもの（記録写真、チラシ、プログラム等）
A36: （その２に続く）

Sheet 収支決算書(様式第8号その2)
B1: ↓様式第１号その２から自動転記
B2: ='収支予算書(様式第1号その2)'!B2 -> 0 | H2: =IF(B2=H12,1,IF(OR(B2=H13,B2=H14,B2=H15,B2=H16),0.75,0.5)) -> 0.5
H3: =IF(B5="はい",10000,0) -> 0
B4: ↓様式第１号その２から自動転記
B5: ='収支予算書(様式第1号その2)'!B5 -> 0
A7: その２ | H7: 別表
A8: 精算額計算書兼収支決算書
H9: 助成率及びＢの上限額
A10: 収入 | F10: （単位：円）
A11: 収入の項目 | D11: 収入額 | F11: 摘要（積算式） | H11: 常滑市民文化会館の減免区分 | I11: 助成率 | J11: Ｂの上限額
A12: 入場料その他これに類するもの ① | H12: １ 市内の小学生、中学生で組織する団体等（100％減免団体） | I12: 10分の10 | J12: 300,000円
A13: 参加者・出演者負担金 | H13: ２ 文化協会・体育協会の本部又は支部（50％減免団体） | I13: ４分の３ | J13: 225,000円
A14: 協賛金・寄附金等 | H14: ３ 社会教育関係団体・福祉関係団体（50％減免団体） | I14: ４分の３ | J14: 225,000円
A15: その他（ ） | H15: ４ 公民館利用登録団体（展示室の50％減免を受けていた団体） | I15: ４分の３ | J15: 225,000円
H16: ５ 文化協会の団体会員（展示室の50％減免を受けていた団体） | I16: ４分の３ | J16: 225,000円
H17: ６ その他の団体・個人 | I17: ２分の１ | J17: 150,000円
A18: 支出 | F18: （単位：円）
A19: 支出の項目 | D19: 支出額 | F19: 摘要（積算式）
A20: 助成対象経費 | B20: 施設使用料
B21: 付属設備使用料
B22: 音響操作委託料
B23: 照明操作委託料
B24: 会場設営費
B25: 助成対象経費の合計 ② | D25: =SUM(D20:E24) -> 0
A26: 助成対象外経費
A31: 精算額の計算
A32: Ａ | C32: =D25-D12 -> 0 | E32: ・Ａ＝②－①
A33: Ｂ | C33: =ROUNDDOWN(IF(C32>300000,300000*H2,C32*H2),-3) -> 0 | E33: ・Ｂ＝Ａ×助成率 ・1,000円未満切り捨て ・上限額を超えた場合は、上限額
A34: 精 算 額 | C34: =C33+H3 -> 0 | E34: ※セントレア地内の施設を使用しない場合は、Ｂの額 ※セントレア地内の施設を使用する場合は、Ｂ＋10,000円
A35: 交付決定額 | E35: ※交付決定通知書の「交付決定額」を転記

Sheet 請求書(様式第10号)
A1: 様式第10号（第15条関係）
I2: 年 月 日
A3: 常滑市長 様
C4: 助成事業者 | E4: 住所（所在地）
E5: =IF(ISBLANK('交付申請書(様式第1号その1)'!D9),'交付申請書(様式第1号その1)'!D27,'交付申請書(様式第1号その1)'!D10) -> 〒 －
E6: ='交付申請書(様式第1号その1)'!D11&'交付申請書(様式第1号その1)'!D28
E7: 氏名（名称及び代表者氏名）
E8: ='交付申請書(様式第1号その1)'!D9&'交付申請書(様式第1号その1)'!D26
E9: ='交付申請書(様式第1号その1)'!D12 -> 0
A11: 常滑市民文化会館代替施設使用料等助成金請求書
A13: 年 月 日付け 常教生第 号 | F13: で額の確定通知を受けた常滑市民文化会館
A14: 代替施設使用料等助成金について、常滑市民文化会館代替施設使用料等助成金交付要綱第
A15: 15条第１項の規定により下記のとおり請求します。
A17: 記
A18: １ 事業名 | C18: ='交付申請書(様式第1号その1)'!D38 -> 0
A20: ２ 助成金請求額 | C20: 金 | G20: 円
A22: ３ 振込先口座
A23: 受 取 人 | B23: 金融機関名 | F23: 銀行 金庫 組合 | G23: 支店名 | L23: 本店 支店 出張所
B24: （フリガナ） | C24: （ ）
B25: 口座名義
B26: 預金種別 口座番号 | C26: 普通 / 当座
A28: ※助成事業者と受取人が異なる場合
A29: 受任者（受取人）氏名
A30: 受任者（受取人）住所
A32: 上記の者に助成金の受取を委任します。
A33: 委任者（助成事業者）氏名
A34: 委任者（助成事業者）住所

Sheet 変更等承認申請書(様式第6号)
A1: 様式第６号（第12条関係）
H3: 年 月 日
A4: 常滑市長 様
D5: 助成事業者 | F5: 住所（所在地）
F6: ='交付申請書(様式第1号その1)'!D11&'交付申請書(様式第1号その1)'!D28
F7: 氏名（名称及び代表者氏名）
F8: ='交付申請書(様式第1号その1)'!D9&'交付申請書(様式第1号その1)'!D26
F9: ='交付申請書(様式第1号その1)'!D12 -> 0
A10: 常滑市民文化会館代替施設使用料等助成金事業変更等承認申請書
B11: 年 月 日付け 常教生第 号 | G11: で交付決定のあった常滑市民文化会館代替
A12: 施設使用料等助成金について、下記の理由により（変更・中止・廃止）したいので、
A13: 常滑市民文化会館代替施設使用料等助成金交付要綱第12条第１項の規定により申請します。
A14: 記
A15: １ 事業名
A17: ２ （変更・中止・廃止）の理由
A19: （変更の場合）
A20: ３ 変更の内容
A23: ４ 変更前助成対象経費 | G23: 円
A24: 変更前交付決定額 | G24: 円
A26: ５ 変更後助成対象経費 | G26: 円
A27: 変更後交付申請額 | G27: 円
A29: （提出書類）
A30: 変更の場合は、変更内容、変更後の助成対象経費及び交付申請額が確認できる書類

Sheet 申請取下書(様式第5号)
A1: 様式第５号（第11条関係）
H3: 年 月 日
A4: 常滑市長 様
D5: 助成事業者 | F5: 住所（所在地）
F6: ='交付申請書(様式第1号その1)'!D11&'交付申請書(様式第1号その1)'!D28
F7: 氏名（名称及び代表者氏名）
F8: ='交付申請書(様式第1号その1)'!D9&'交付申請書(様式第1号その1)'!D26
F9: ='交付申請書(様式第1号その1)'!D12 -> 0
A10: 常滑市民文化会館代替施設使用料等助成金交付申請取下書
B11: 年 月 日付け 常教生第 号 | G11: で交付決定のあった常滑市民文化会館代替
A12: 施設使用料等助成金について、常滑市民文化会館代替施設使用料等助成金交付要綱第11条
A13: 第１項の規定により下記のとおり取り下げます。
A14: 記
A16: １ 事業名
A18: ２ 取下げの理由
